Workbook

Sheet Calculator
A3: Total Mortgage | B3: Monthly payment | C3: Extra Payment | D3: Interest Rate | E3: Escrow | F3: Loan Term | G3: Total interest paid
A4: 126000 | B4: =((((1+(D4/12))^(F4*12))*(D4/12))/(((1+(D4/12))^(F4*12))-1))*A4 -> 1173.5309 | C4: 500 | D4: 0.0225 | E4: 0 | F4: 10 | G4: ='Monthly Chart'!E374 -> 9958.1755
A10: Fill in the green squares above with the corresponding information.
A11: Put your interest rate as a decimal. Example: if your interest rate is 3.5%, then type .035 in the interest rate box.
A12: Play around with the interest rate or extra payments to see how much total interest you will pay.
A13: If you insert extra payments towards your principal, you can look at the Monthly Chart sheet to see how long it will take you to pay off your loan in months.
A14: You can divide the months by 12, to figure out how long in years it will take. Example: 130/12=10.83, or 10 years and 10 months.

Sheet Monthly Chart
A3: Loan Amount | B3: Interest Rate | C3: Term in Years | D3: Monthly Payment | E3: Extra Monthly
A4: =Calculator!A4 -> 126000 | B4: =Calculator!D4 -> 0.0225 | C4: =Calculator!F4 -> 10 | D4: =Calculator!B4 -> 1173.5309 | E4: =Calculator!C4 -> 500
A6: Month | B6: Balance | C6: =D4+E4 -> 1673.5309 | D6: Principal | E6: Interest | F6: Escrow | G6: End | H6: Total Interest Paid
A7: 1 | B7: =A4 -> 126000 | C7: =D4+E4 -> 1673.5309 | D7: =C7-E7 -> 1437.2809 | E7: =(B7*B4)/12 -> 236.25 | F7: =Calculator!E4 -> 0 | G7: =B7-D7+F7 -> 124562.72 | H7: =E7 -> 236.25
A8: 2 | B8: =IF(G7>0, G7, 0) -> 124562.72 | C8: =D4+E4 -> 1673.5309 | D8: =C8-E8 -> 1439.9758 | E8: =IF(E7>0,(B8*B4)/12,0) -> 233.5551 | F8: =Calculator!E4 -> 0 | G8: =B8-D8+F8 -> 123122.74 | H8: =H7+E8 -> 469.8051
A9: 3 | B9: =IF(G8>0, G8, 0) -> 123122.74 | C9: =D4+E4 -> 1673.5309 | D9: =C9-E9 -> 1442.6757 | E9: =IF(E8>0,(B9*B4)/12,0) -> 230.85514 | F9: =Calculator!E4 -> 0 | G9: =B9-D9+F9 -> 121680.07 | H9: =H8+E9 -> 700.66024
A10: 4 | B10: =IF(G9>0, G9, 0) -> 121680.07 | C10: =D4+E4 -> 1673.5309 | D10: =C10-E10 -> 1445.3808 | E10: =(B10*B4)/12 -> 228.15013 | F10: =Calculator!E4 -> 0 | G10: =B10-D10+F10 -> 120234.69 | H10: =H9+E10 -> 928.81037
A11: 5 | B11: =IF(G10>0, G10, 0) -> 120234.69 | C11: =D4+E4 -> 1673.5309 | D11: =C11-E11 -> 1448.0908 | E11: =IF(E10>0,(B11*B4)/12,0) -> 225.44004 | F11: =Calculator!E4 -> 0 | G11: =B11-D11+F11 -> 118786.6 | H11: =H10+E11 -> 1154.2504
A12: 6 | B12: =IF(G11>0, G11, 0) -> 118786.6 | C12: =D4+E4 -> 1673.5309 | D12: =C12-E12 -> 1450.806 | E12: =IF(E11>0,(B12*B4)/12,0) -> 222.72487 | F12: =Calculator!E4 -> 0 | G12: =B12-D12+F12 -> 117335.79 | H12: =H11+E12 -> 1376.9753
A13: 7 | B13: =IF(G12>0, G12, 0) -> 117335.79 | C13: =D4+E4 -> 1673.5309 | D13: =C13-E13 -> 1453.5263 | E13: =IF(E12>0,(B13*B4)/12,0) -> 220.00461 | F13: =Calculator!E4 -> 0 | G13: =B13-D13+F13 -> 115882.26 | H13: =H12+E13 -> 1596.9799
A14: 8 | B14: =IF(G13>0, G13, 0) -> 115882.26 | C14: =D4+E4 -> 1673.5309 | D14: =C14-E14 -> 1456.2516 | E14: =IF(E13>0,(B14*B4)/12,0) -> 217.27924 | F14: =Calculator!E4 -> 0 | G14: =B14-D14+F14 -> 114426.01 | H14: =H13+E14 -> 1814.2591
A15: 9 | B15: =IF(G14>0, G14, 0) -> 114426.01 | C15: =D4+E4 -> 1673.5309 | D15: =C15-E15 -> 1458.9821 | E15: =IF(E14>0,(B15*B4)/12,0) -> 214.54877 | F15: =Calculator!E4 -> 0 | G15: =B15-D15+F15 -> 112967.03 | H15: =H14+E15 -> 2028.8079
A16: 10 | B16: =IF(G15>0, G15, 0) -> 112967.03 | C16: =D4+E4 -> 1673.5309 | D16: =C16-E16 -> 1461.7177 | E16: =IF(E15>0,(B16*B4)/12,0) -> 211.81318 | F16: =Calculator!E4 -> 0 | G16: =B16-D16+F16 -> 111505.31 | H16: =H15+E16 -> 2240.6211
A17: 11 | B17: =IF(G16>0, G16, 0) -> 111505.31 | C17: =D4+E4 -> 1673.5309 | D17: =C17-E17 -> 1464.4584 | E17: =IF(E16>0,(B17*B4)/12,0) -> 209.07246 | F17: =Calculator!E4 -> 0 | G17: =B17-D17+F17 -> 110040.85 | H17: =H16+E17 -> 2449.6935
A18: 12 | B18: =IF(G17>0, G17, 0) -> 110040.85 | C18: =D4+E4 -> 1673.5309 | D18: =C18-E18 -> 1467.2043 | E18: =(B18*B4)/12 -> 206.3266 | F18: =Calculator!E4 -> 0 | G18: =B18-D18+F18 -> 108573.65 | H18: =H17+E18 -> 2656.0201
A19: 13 | B19: =IF(G18>0, G18, 0) -> 108573.65 | C19: =D4+E4 -> 1673.5309 | D19: =C19-E19 -> 1469.9553 | E19: =IF(E18>0,(B19*B4)/12,0) -> 203.57559 | F19: =Calculator!E4 -> 0 | G19: =B19-D19+F19 -> 107103.69 | H19: =H18+E19 -> 2859.5957
A20: 14 | B20: =IF(G19>0, G19, 0) -> 107103.69 | C20: =D4+E4 -> 1673.5309 | D20: =C20-E20 -> 1472.7115 | E20: =IF(E19>0,(B20*B4)/12,0) -> 200.81943 | F20: =Calculator!E4 -> 0 | G20: =B20-D20+F20 -> 105630.98 | H20: =H19+E20 -> 3060.4152
A21: 15 | B21: =IF(G20>0, G20, 0) -> 105630.98 | C21: =D4+E4 -> 1673.5309 | D21: =C21-E21 -> 1475.4728 | E21: =IF(E20>0,(B21*B4)/12,0) -> 198.05809 | F21: =Calculator!E4 -> 0 | G21: =B21-D21+F21 -> 104155.51 | H21: =H20+E21 -> 3258.4733
A22: 16 | B22: =IF(G21>0, G21, 0) -> 104155.51 | C22: =D4+E4 -> 1673.5309 | D22: =C22-E22 -> 1478.2393 | E22: =(B22*B4)/12 -> 195.29158 | F22: =Calculator!E4 -> 0 | G22: =B22-D22+F22 -> 102677.27 | H22: =H21+E22 -> 3453.7648
A23: 17 | B23: =IF(G22>0, G22, 0) -> 102677.27 | C23: =D4+E4 -> 1673.5309 | D23: =C23-E23 -> 1481.011 | E23: =IF(E22>0,(B23*B4)/12,0) -> 192.51988 | F23: =Calculator!E4 -> 0 | G23: =B23-D23+F23 -> 101196.26 | H23: =H22+E23 -> 3646.2847
A24: 18 | B24: =IF(G23>0, G23, 0) -> 101196.26 | C24: =D4+E4 -> 1673.5309 | D24: =C24-E24 -> 1483.7879 | E24: =IF(E23>0,(B24*B4)/12,0) -> 189.74299 | F24: =Calculator!E4 -> 0 | G24: =B24-D24+F24 -> 99712.472 | H24: =H23+E24 -> 3836.0277
A25: 19 | B25: =IF(G24>0, G24, 0) -> 99712.472 | C25: =D4+E4 -> 1673.5309 | D25: =C25-E25 -> 1486.57 | E25: =IF(E24>0,(B25*B4)/12,0) -> 186.96088 | F25: =Calculator!E4 -> 0 | G25: =B25-D25+F25 -> 98225.902 | H25: =H24+E25 -> 4022.9886
A26: 20 | B26: =IF(G25>0, G25, 0) -> 98225.902 | C26: =D4+E4 -> 1673.5309 | D26: =C26-E26 -> 1489.3573 | E26: =IF(E25>0,(B26*B4)/12,0) -> 184.17357 | F26: =Calculator!E4 -> 0 | G26: =B26-D26+F26 -> 96736.544 | H26: =H25+E26 -> 4207.1622
A27: 21 | B27: =IF(G26>0, G26, 0) -> 96736.544 | C27: =D4+E4 -> 1673.5309 | D27: =C27-E27 -> 1492.1499 | E27: =IF(E26>0,(B27*B4)/12,0) -> 181.38102 | F27: =Calculator!E4 -> 0 | G27: =B27-D27+F27 -> 95244.395 | H27: =H26+E27 -> 4388.5432
A28: 22 | B28: =IF(G27>0, G27, 0) -> 95244.395 | C28: =D4+E4 -> 1673.5309 | D28: =C28-E28 -> 1494.9476 | E28: =(B28*B4)/12 -> 178.58324 | F28: =Calculator!E4 -> 0 | G28: =B28-D28+F28 -> 93749.447 | H28: =H27+E28 -> 4567.1264
A29: 23 | B29: =IF(G28>0, G28, 0) -> 93749.447 | C29: =D4+E4 -> 1673.5309 | D29: =C29-E29 -> 1497.7507 | E29: =IF(E28>0,(B29*B4)/12,0) -> 175.78021 | F29: =Calculator!E4 -> 0 | G29: =B29-D29+F29 -> 92251.696 | H29: =H28+E29 -> 4742.9066
A30: 24 | B30: =IF(G29>0, G29, 0) -> 92251.696 | C30: =D4+E4 -> 1673.5309 | D30: =C30-E30 -> 1500.559 | E30: =IF(E29>0,(B30*B4)/12,0) -> 172.97193 | F30: =Calculator!E4 -> 0 | G30: =B30-D30+F30 -> 90751.137 | H30: =H29+E30 -> 4915.8786
A31: 25 | B31: =IF(G30>0, G30, 0) -> 90751.137 | C31: =D4+E4 -> 1673.5309 | D31: =C31-E31 -> 1503.3725 | E31: =(B31*B4)/12 -> 170.15838 | F31: =Calculator!E4 -> 0 | G31: =B31-D31+F31 -> 89247.765 | H31: =H30+E31 -> 5086.0369
A32: 26 | B32: =IF(G31>0, G31, 0) -> 89247.765 | C32: =D4+E4 -> 1673.5309 | D32: =C32-E32 -> 1506.1913 | E32: =IF(E31>0,(B32*B4)/12,0) -> 167.33956 | F32: =Calculator!E4 -> 0 | G32: =B32-D32+F32 -> 87741.573 | H32: =H31+E32 -> 5253.3765
A33: 27 | B33: =IF(G32>0, G32, 0) -> 87741.573 | C33: =D4+E4 -> 1673.5309 | D33: =C33-E33 -> 1509.0154 | E33: =IF(E32>0,(B33*B4)/12,0) -> 164.51545 | F33: =Calculator!E4 -> 0 | G33: =B33-D33+F33 -> 86232.558 | H33: =H32+E33 -> 5417.8919
A34: 28 | B34: =IF(G33>0, G33, 0) -> 86232.558 | C34: =D4+E4 -> 1673.5309 | D34: =C34-E34 -> 1511.8448 | E34: =(B34*B4)/12 -> 161.68605 | F34: =Calculator!E4 -> 0 | G34: =B34-D34+F34 -> 84720.713 | H34: =H33+E34 -> 5579.578
A35: 29 | B35: =IF(G34>0, G34, 0) -> 84720.713 | C35: =D4+E4 -> 1673.5309 | D35: =C35-E35 -> 1514.6795 | E35: =IF(E34>0,(B35*B4)/12,0) -> 158.85134 | F35: =Calculator!E4 -> 0 | G35: =B35-D35+F35 -> 83206.034 | H35: =H34+E35 -> 5738.4293
A36: 30 | B36: =IF(G35>0, G35, 0) -> 83206.034 | C36: =D4+E4 -> 1673.5309 | D36: =C36-E36 -> 1517.5196 | E36: =IF(E35>0,(B36*B4)/12,0) -> 156.01131 | F36: =Calculator!E4 -> 0 | G36: =B36-D36+F36 -> 81688.514 | H36: =H35+E36 -> 5894.4406
A37: 31 | B37: =IF(G36>0, G36, 0) -> 81688.514 | C37: =D4+E4 -> 1673.5309 | D37: =C37-E37 -> 1520.3649 | E37: =(B37*B4)/12 -> 153.16596 | F37: =Calculator!E4 -> 0 | G37: =B37-D37+F37 -> 80168.149 | H37: =H36+E37 -> 6047.6066
A38: 32 | B38: =IF(G37>0, G37, 0) -> 80168.149 | C38: =D4+E4 -> 1673.5309 | D38: =C38-E38 -> 1523.2156 | E38: =IF(E37>0,(B38*B4)/12,0) -> 150.31528 | F38: =Calculator!E4 -> 0 | G38: =B38-D38+F38 -> 78644.934 | H38: =H37+E38 -> 6197.9219
A39: 33 | B39: =IF(G38>0, G38, 0) -> 78644.934 | C39: =D4+E4 -> 1673.5309 | D39: =C39-E39 -> 1526.0716 | E39: =IF(E38>0,(B39*B4)/12,0) -> 147.45925 | F39: =Calculator!E4 -> 0 | G39: =B39-D39+F39 -> 77118.862 | H39: =H38+E39 -> 6345.3811
A40: 34 | B40: =IF(G39>0, G39, 0) -> 77118.862 | C40: =D4+E4 -> 1673.5309 | D40: =C40-E40 -> 1528.933 | E40: =(B40*B4)/12 -> 144.59787 | F40: =Calculator!E4 -> 0 | G40: =B40-D40+F40 -> 75589.929 | H40: =H39+E40 -> 6489.979
A41: 35 | B41: =IF(G40>0, G40, 0) -> 75589.929 | C41: =D4+E4 -> 1673.5309 | D41: =C41-E41 -> 1531.7998 | E41: =IF(E40>0,(B41*B4)/12,0) -> 141.73112 | F41: =Calculator!E4 -> 0 | G41: =B41-D41+F41 -> 74058.129 | H41: =H40+E41 -> 6631.7101
A42: 36 | B42: =IF(G41>0, G41, 0) -> 74058.129 | C42: =D4+E4 -> 1673.5309 | D42: =C42-E42 -> 1534.6719 | E42: =IF(E41>0,(B42*B4)/12,0) -> 138.85899 | F42: =Calculator!E4 -> 0 | G42: =B42-D42+F42 -> 72523.457 | H42: =H41+E42 -> 6770.5691
A43: 37 | B43: =IF(G42>0, G42, 0) -> 72523.457 | C43: =D4+E4 -> 1673.5309 | D43: =C43-E43 -> 1537.5494 | E43: =(B43*B4)/12 -> 135.98148 | F43: =Calculator!E4 -> 0 | G43: =B43-D43+F43 -> 70985.908 | H43: =H42+E43 -> 6906.5506
...
